BEGIN:VCALENDAR
VERSION:2.0
PRODID:-//Squarespace Inc/Squarespace 6//v6//EN
BEGIN:VEVENT
UID:59700cd0e45a7cc51cd959a8@squarespace.com
DTSTAMP:20170720T015416Z
DTSTART:20170901T230000Z
DTEND:20170902T050000Z
SUMMARY:Suzie Walker Clinic
END:VEVENT
END:VCALENDAR
