BEGIN:VCALENDAR
VERSION:2.0
PRODID:-//Squarespace Inc/Squarespace 6//v6//EN
BEGIN:VEVENT
UID:59700e31414fb5d8ec237357@squarespace.com
DTSTAMP:20170720T015934Z
DTSTART:20170923T230000Z
DTEND:20170924T060000Z
SUMMARY:Oliver Evans Clinic
END:VEVENT
END:VCALENDAR
