BEGIN:VCALENDAR
VERSION:2.0
PRODID:-//Squarespace Inc/Squarespace 6//v6//EN
BEGIN:VEVENT
UID:5b2b5b0df950b7ec244bf5b3@squarespace.com
DTSTAMP:20180621T080640Z
DTSTART:20180715T223000Z
DTEND:20180717T073000Z
SUMMARY:Kris De Doncker Clinic
END:VEVENT
END:VCALENDAR
