BEGIN:VCALENDAR
VERSION:2.0
PRODID:-//Squarespace Inc/Squarespace 6//v6//EN
BEGIN:VEVENT
UID:5b2b5a786d2a73a146f67979@squarespace.com
DTSTAMP:20180621T080002Z
DTSTART:20180707T220000Z
DTEND:20180709T070000Z
SUMMARY:Nicole Tough Clinic
END:VEVENT
END:VCALENDAR
